BEGIN:VCALENDAR
VERSION:2.0
PRODID:-//Dobbins ARB Force Support Services - ECPv6.15.20//NONSGML v1.0//EN
CALSCALE:GREGORIAN
METHOD:PUBLISH
X-WR-CALNAME:Dobbins ARB Force Support Services
X-ORIGINAL-URL:https://dobbinslife.com
X-WR-CALDESC:Events for Dobbins ARB Force Support Services
REFRESH-INTERVAL;VALUE=DURATION:PT1H
X-Robots-Tag:noindex
X-PUBLISHED-TTL:PT1H
BEGIN:VTIMEZONE
TZID:UTC
BEGIN:STANDARD
TZOFFSETFROM:+0000
TZOFFSETTO:+0000
TZNAME:UTC
DTSTART:20250101T000000
END:STANDARD
END:VTIMEZONE
BEGIN:VEVENT
DTSTART;TZID=UTC:20260422T110000
DTEND;TZID=UTC:20260422T130000
DTSTAMP:20260422T001850
CREATED:20260320T171929Z
LAST-MODIFIED:20260320T171929Z
UID:10000022-1776855600-1776862800@dobbinslife.com
SUMMARY:Wing Wednesday
DESCRIPTION:
URL:https://dobbinslife.com/event/wing-wednesday/2026-04-22/
LOCATION:Dobbins Club Patio Bar\, 1537 Atlantic Avenue\, Building 806\, Dobbins ARB\, GA\, 30069\, United States
END:VEVENT
BEGIN:VEVENT
DTSTART;TZID=UTC:20260429T110000
DTEND;TZID=UTC:20260429T130000
DTSTAMP:20260422T001850
CREATED:20260320T171929Z
LAST-MODIFIED:20260320T171929Z
UID:10000023-1777460400-1777467600@dobbinslife.com
SUMMARY:Wing Wednesday
DESCRIPTION:
URL:https://dobbinslife.com/event/wing-wednesday/2026-04-29/
LOCATION:Dobbins Club Patio Bar\, 1537 Atlantic Avenue\, Building 806\, Dobbins ARB\, GA\, 30069\, United States
END:VEVENT
END:VCALENDAR