BEGIN:VCALENDAR
VERSION:2.0
PRODID:-//Dobbins ARB Force Support Services - ECPv6.15.20//NONSGML v1.0//EN
CALSCALE:GREGORIAN
METHOD:PUBLISH
X-WR-CALNAME:Dobbins ARB Force Support Services
X-ORIGINAL-URL:https://dobbinslife.com
X-WR-CALDESC:Events for Dobbins ARB Force Support Services
REFRESH-INTERVAL;VALUE=DURATION:PT1H
X-Robots-Tag:noindex
X-PUBLISHED-TTL:PT1H
BEGIN:VTIMEZONE
TZID:UTC
BEGIN:STANDARD
TZOFFSETFROM:+0000
TZOFFSETTO:+0000
TZNAME:UTC
DTSTART:20260101T000000
END:STANDARD
END:VTIMEZONE
BEGIN:VEVENT
DTSTART;TZID=UTC:20270203T110000
DTEND;TZID=UTC:20270203T130000
DTSTAMP:20260422T150609
CREATED:20260320T171929Z
LAST-MODIFIED:20260320T171929Z
UID:10000063-1801652400-1801659600@dobbinslife.com
SUMMARY:Wing Wednesday
DESCRIPTION:
URL:https://dobbinslife.com/event/wing-wednesday/2027-02-03/
LOCATION:Dobbins Club Patio Bar\, 1537 Atlantic Avenue\, Building 806\, Dobbins ARB\, GA\, 30069\, United States
END:VEVENT
BEGIN:VEVENT
DTSTART;TZID=UTC:20270210T110000
DTEND;TZID=UTC:20270210T130000
DTSTAMP:20260422T150609
CREATED:20260320T171929Z
LAST-MODIFIED:20260320T171929Z
UID:10000064-1802257200-1802264400@dobbinslife.com
SUMMARY:Wing Wednesday
DESCRIPTION:
URL:https://dobbinslife.com/event/wing-wednesday/2027-02-10/
LOCATION:Dobbins Club Patio Bar\, 1537 Atlantic Avenue\, Building 806\, Dobbins ARB\, GA\, 30069\, United States
END:VEVENT
BEGIN:VEVENT
DTSTART;TZID=UTC:20270217T110000
DTEND;TZID=UTC:20270217T130000
DTSTAMP:20260422T150609
CREATED:20260320T171929Z
LAST-MODIFIED:20260320T171929Z
UID:10000065-1802862000-1802869200@dobbinslife.com
SUMMARY:Wing Wednesday
DESCRIPTION:
URL:https://dobbinslife.com/event/wing-wednesday/2027-02-17/
LOCATION:Dobbins Club Patio Bar\, 1537 Atlantic Avenue\, Building 806\, Dobbins ARB\, GA\, 30069\, United States
END:VEVENT
BEGIN:VEVENT
DTSTART;TZID=UTC:20270224T110000
DTEND;TZID=UTC:20270224T130000
DTSTAMP:20260422T150609
CREATED:20260320T171929Z
LAST-MODIFIED:20260320T171929Z
UID:10000066-1803466800-1803474000@dobbinslife.com
SUMMARY:Wing Wednesday
DESCRIPTION:
URL:https://dobbinslife.com/event/wing-wednesday/2027-02-24/
LOCATION:Dobbins Club Patio Bar\, 1537 Atlantic Avenue\, Building 806\, Dobbins ARB\, GA\, 30069\, United States
END:VEVENT
END:VCALENDAR