BEGIN:VCALENDAR
VERSION:2.0
PRODID:-//Dobbins ARB Force Support Services - ECPv6.15.20//NONSGML v1.0//EN
CALSCALE:GREGORIAN
METHOD:PUBLISH
X-ORIGINAL-URL:https://dobbinslife.com
X-WR-CALDESC:Events for Dobbins ARB Force Support Services
REFRESH-INTERVAL;VALUE=DURATION:PT1H
X-Robots-Tag:noindex
X-PUBLISHED-TTL:PT1H
BEGIN:VTIMEZONE
TZID:UTC
BEGIN:STANDARD
TZOFFSETFROM:+0000
TZOFFSETTO:+0000
TZNAME:UTC
DTSTART:20250101T000000
END:STANDARD
END:VTIMEZONE
BEGIN:VEVENT
DTSTART;TZID=UTC:20261104T110000
DTEND;TZID=UTC:20261104T130000
DTSTAMP:20260422T102828
CREATED:20260320T171929Z
LAST-MODIFIED:20260320T171929Z
UID:10000050-1793790000-1793797200@dobbinslife.com
SUMMARY:Wing Wednesday
DESCRIPTION:
URL:https://dobbinslife.com/event/wing-wednesday/2026-11-04/
LOCATION:Dobbins Club Patio Bar\, 1537 Atlantic Avenue\, Building 806\, Dobbins ARB\, GA\, 30069\, United States
END:VEVENT
BEGIN:VEVENT
DTSTART;TZID=UTC:20261111T110000
DTEND;TZID=UTC:20261111T130000
DTSTAMP:20260422T102828
CREATED:20260320T171929Z
LAST-MODIFIED:20260320T171929Z
UID:10000051-1794394800-1794402000@dobbinslife.com
SUMMARY:Wing Wednesday
DESCRIPTION:
URL:https://dobbinslife.com/event/wing-wednesday/2026-11-11/
LOCATION:Dobbins Club Patio Bar\, 1537 Atlantic Avenue\, Building 806\, Dobbins ARB\, GA\, 30069\, United States
END:VEVENT
BEGIN:VEVENT
DTSTART;TZID=UTC:20261118T110000
DTEND;TZID=UTC:20261118T130000
DTSTAMP:20260422T102828
CREATED:20260320T171929Z
LAST-MODIFIED:20260320T171929Z
UID:10000052-1794999600-1795006800@dobbinslife.com
SUMMARY:Wing Wednesday
DESCRIPTION:
URL:https://dobbinslife.com/event/wing-wednesday/2026-11-18/
LOCATION:Dobbins Club Patio Bar\, 1537 Atlantic Avenue\, Building 806\, Dobbins ARB\, GA\, 30069\, United States
END:VEVENT
BEGIN:VEVENT
DTSTART;TZID=UTC:20261125T110000
DTEND;TZID=UTC:20261125T130000
DTSTAMP:20260422T102828
CREATED:20260320T171929Z
LAST-MODIFIED:20260320T171929Z
UID:10000053-1795604400-1795611600@dobbinslife.com
SUMMARY:Wing Wednesday
DESCRIPTION:
URL:https://dobbinslife.com/event/wing-wednesday/2026-11-25/
LOCATION:Dobbins Club Patio Bar\, 1537 Atlantic Avenue\, Building 806\, Dobbins ARB\, GA\, 30069\, United States
END:VEVENT
END:VCALENDAR