BEGIN:VCALENDAR
VERSION:2.0
PRODID:-//Dobbins ARB Force Support Services - ECPv6.15.20//NONSGML v1.0//EN
CALSCALE:GREGORIAN
METHOD:PUBLISH
X-ORIGINAL-URL:https://dobbinslife.com
X-WR-CALDESC:Events for Dobbins ARB Force Support Services
REFRESH-INTERVAL;VALUE=DURATION:PT1H
X-Robots-Tag:noindex
X-PUBLISHED-TTL:PT1H
BEGIN:VTIMEZONE
TZID:UTC
BEGIN:STANDARD
TZOFFSETFROM:+0000
TZOFFSETTO:+0000
TZNAME:UTC
DTSTART:20250101T000000
END:STANDARD
END:VTIMEZONE
BEGIN:VEVENT
DTSTART;TZID=UTC:20260506T110000
DTEND;TZID=UTC:20260506T130000
DTSTAMP:20260422T014704
CREATED:20260320T171929Z
LAST-MODIFIED:20260320T171929Z
UID:10000024-1778065200-1778072400@dobbinslife.com
SUMMARY:Wing Wednesday
DESCRIPTION:
URL:https://dobbinslife.com/event/wing-wednesday/2026-05-06/
LOCATION:Dobbins Club Patio Bar\, 1537 Atlantic Avenue\, Building 806\, Dobbins ARB\, GA\, 30069\, United States
END:VEVENT
BEGIN:VEVENT
DTSTART;TZID=UTC:20260513T110000
DTEND;TZID=UTC:20260513T130000
DTSTAMP:20260422T014704
CREATED:20260320T171929Z
LAST-MODIFIED:20260320T171929Z
UID:10000025-1778670000-1778677200@dobbinslife.com
SUMMARY:Wing Wednesday
DESCRIPTION:
URL:https://dobbinslife.com/event/wing-wednesday/2026-05-13/
LOCATION:Dobbins Club Patio Bar\, 1537 Atlantic Avenue\, Building 806\, Dobbins ARB\, GA\, 30069\, United States
END:VEVENT
BEGIN:VEVENT
DTSTART;TZID=UTC:20260520T110000
DTEND;TZID=UTC:20260520T130000
DTSTAMP:20260422T014704
CREATED:20260320T171929Z
LAST-MODIFIED:20260320T171929Z
UID:10000026-1779274800-1779282000@dobbinslife.com
SUMMARY:Wing Wednesday
DESCRIPTION:
URL:https://dobbinslife.com/event/wing-wednesday/2026-05-20/
LOCATION:Dobbins Club Patio Bar\, 1537 Atlantic Avenue\, Building 806\, Dobbins ARB\, GA\, 30069\, United States
END:VEVENT
BEGIN:VEVENT
DTSTART;TZID=UTC:20260527T110000
DTEND;TZID=UTC:20260527T130000
DTSTAMP:20260422T014704
CREATED:20260320T171929Z
LAST-MODIFIED:20260320T171929Z
UID:10000027-1779879600-1779886800@dobbinslife.com
SUMMARY:Wing Wednesday
DESCRIPTION:
URL:https://dobbinslife.com/event/wing-wednesday/2026-05-27/
LOCATION:Dobbins Club Patio Bar\, 1537 Atlantic Avenue\, Building 806\, Dobbins ARB\, GA\, 30069\, United States
END:VEVENT
END:VCALENDAR